BEGIN:VCALENDAR
PRODID:-//github.com/rianjs/ical.net//NONSGML ical.net 4.0//EN
VERSION:2.0
BEGIN:VEVENT
DESCRIPTION:Új gyűjteményi darabokkal kibővített tárlattal nyílik meg újra
  a Tegularium. A Veszprémi Tégla történeti állandó kiállításon közelebbrő
 l is megismerkedhetünk egyik legalapvetőbb építőanyagunk ipartörténeti\, 
 művészet- és civilizációtörténetre gyakorolt hatásával.
DTEND:20230117T230000Z
DTSTAMP:20260424T053423Z
DTSTART:20230117T160000Z
GEO:47.096107;17.903515
LOCATION:Művészetek Háza Veszprém - Dubniczay-palota\n8200 Veszprém\, Vár 
 utca 29
SEQUENCE:0
SUMMARY:TEGULARIUM / Téglagyűjtemény kiállításmegnyitó
UID:7d047d43-f648-42e3-a297-8e00f9364a6f
END:VEVENT
END:VCALENDAR
