BEGIN:VCALENDAR
PRODID:-//github.com/rianjs/ical.net//NONSGML ical.net 4.0//EN
VERSION:2.0
BEGIN:VEVENT
DESCRIPTION:Nyisd meg a Téli Gyárkertet magával Joulupukkival\, aki egyene
 sen Finnországból érkezik manóival\, hogy felavassák a hófánk- és jégkori
 pályát!
DTSTAMP:20260419T230722Z
DTSTART;VALUE=DATE:20231207
GEO:47.094820;17.914539
LOCATION:Gyárkert Kultúrpark\n8200 Veszprém\, Jutasi út 3
SEQUENCE:0
SUMMARY:Téli Gyárkert megnyitó a Mikulással!
UID:c2fe9968-997e-456b-9ee7-7c1cbf4125d9
END:VEVENT
END:VCALENDAR
