BEGIN:VCALENDAR
PRODID:-//github.com/rianjs/ical.net//NONSGML ical.net 4.0//EN
VERSION:2.0
BEGIN:VEVENT
DESCRIPTION:Izgalmas színházi élményt ígér Sartre drámája az Imre Sándor S
 zeretetszínház előadásában.
DTEND:20230712T210000Z
DTSTAMP:20260419T175048Z
DTSTART:20230712T190000Z
GEO:46.754337;17.311248
LOCATION:Szabadtéri Színpad\n8314 Vonyarcvashegy\, Fürdő utca 1
SEQUENCE:0
SUMMARY:Temetetlen holtak - dráma
UID:ef494f18-d38f-400f-9b3d-dbf8d8541ac1
END:VEVENT
END:VCALENDAR
