BEGIN:VCALENDAR
PRODID:-//github.com/rianjs/ical.net//NONSGML ical.net 4.0//EN
VERSION:2.0
BEGIN:VEVENT
DESCRIPTION:A Magyar Nemzeti Levéltár és a VEB2023 EKF Veszprémi Térképván
 dor elnevezésű közös projektjének sajtónyilvános bemutatójára kerül sor 2
 023. június 30-án pénteken 13.00-kor a Laczkó Dezső Múzeumban.
DTEND:20230630T220000Z
DTSTAMP:20260421T092958Z
DTSTART:20230630T110000Z
GEO:47.090223;17.909150
LOCATION:Laczkó Dezső Múzeum\n8200 Veszprém\, Erzsébet sétány 1
SEQUENCE:0
SUMMARY:Térképvándor sajtónyilvános bemutató
UID:b8a5c16b-adeb-4731-b68a-5fe45456e321
END:VEVENT
END:VCALENDAR
