BEGIN:VCALENDAR
PRODID:-//github.com/rianjs/ical.net//NONSGML ical.net 4.0//EN
VERSION:2.0
BEGIN:VEVENT
DESCRIPTION:Berhida\, Küngös és a házigazda Jásd települések hagyományai é
 s értékeit ünnepeljük 2 napon keresztül\, érdekes bemutatókkal\, közösség
 et erősítő eseményekkel.\nA kínálatban szerepel mise a jásdi katolikus te
 mplomban\, értéktúra\, gasztronómiai kóstolók a 3 település ételeiből és 
 kombinációiból\, helyi fel
DTEND:20230520T140000Z
DTSTAMP:20260421T095218Z
DTSTART:20230519T120000Z
GEO:47.287009;18.023890
LOCATION:Sportpálya\n8424 Jásd
SEQUENCE:0
SUMMARY:Térségi Érték-körkép: Jásd\, Berhida és Küngös
UID:eaafda41-42f3-4f6c-94d7-f243be0f9454
END:VEVENT
END:VCALENDAR
