BEGIN:VCALENDAR
PRODID:-//github.com/rianjs/ical.net//NONSGML ical.net 4.0//EN
VERSION:2.0
BEGIN:VEVENT
DESCRIPTION:A vonyarcvashegyi gyermeknap keretében ingyenesen tekinthető m
 eg az Imre Sándor Szeretetszínház Terülj\, terülj asztalkám interakítv me
 sejáték.
DTEND:20230528T160000Z
DTSTAMP:20260419T175417Z
DTSTART:20230528T150000Z
GEO:46.755464;17.311229
LOCATION:Lidó Strand- Súgócsiga Színpad\n8314 Vonyarcvashegy\, Arany János
  utca 7
SEQUENCE:0
SUMMARY:Terülj\, terülj asztalkám - interaktív mesejáték
UID:04cd286c-f5b0-4e5e-93b0-ad9549812850
END:VEVENT
END:VCALENDAR
