BEGIN:VCALENDAR
PRODID:-//github.com/rianjs/ical.net//NONSGML ical.net 4.0//EN
VERSION:2.0
BEGIN:VEVENT
DESCRIPTION:Tradicionális arab ételek a Fricskában.
DTEND:20231026T193000Z
DTSTAMP:20260421T092217Z
DTSTART:20231026T180000Z
GEO:47.098569;17.900630
LOCATION:Fricska Étteremlakás\n8200 Veszprém\, Miklós utca 10
SEQUENCE:0
SUMMARY:Tradicionális arab ételek - Madách 200 Gondolat Fesztivál
UID:68636d94-c242-4625-bba3-1a887036c218
END:VEVENT
END:VCALENDAR
