BEGIN:VCALENDAR
PRODID:-//github.com/rianjs/ical.net//NONSGML ical.net 4.0//EN
VERSION:2.0
BEGIN:VEVENT
DESCRIPTION:Tradicionális zsidó ételek kóstolója
DTEND:20231025T193000Z
DTSTAMP:20260421T092538Z
DTSTART:20231025T180000Z
GEO:47.098569;17.900630
LOCATION:Fricska Étteremlakás\n8200 Veszprém\, Miklós utca 10
SEQUENCE:0
SUMMARY:Tradicionális zsidó ételek - Madách 200 Gondolat Fesztivál
UID:f821078c-6565-43ec-bac8-43635822a28e
END:VEVENT
END:VCALENDAR
