BEGIN:VCALENDAR
PRODID:-//github.com/rianjs/ical.net//NONSGML ical.net 4.0//EN
VERSION:2.0
BEGIN:VEVENT
DESCRIPTION:A Tündérkönnyek című víziszínházi előadás a Balaton keletkezés
 ének történetét dolgozza fel. Az produkció Tokody Klára népmondája az ala
 pján született meg. A színpadi feldolgozásban felbukkannak azok a motívum
 ok - a Tihanyi echó\, az Aranyhíd -\, amelyek ismerősek a nagyközönség sz
 ámára.
DTEND:20230630T220000Z
DTSTAMP:20260421T081351Z
DTSTART:20230630T173000Z
GEO:47.027967;18.016367
LOCATION:Bondoró Fesztivál\, Balatonalmádi\n8220 Balatonalmádi\, Véghely D
 ezső utca
SEQUENCE:0
SUMMARY:Tündérkönnyek - BEMUTATÓ // Balatonalmádi\, Bondoró
UID:e362a007-c70f-40e6-afdf-bd42a754aa2b
END:VEVENT
END:VCALENDAR
