BEGIN:VCALENDAR
PRODID:-//github.com/rianjs/ical.net//NONSGML ical.net 4.0//EN
VERSION:2.0
BEGIN:VEVENT
DESCRIPTION:A Tündérkönnyek című víziszínházi előadás a Balaton keletkezés
 ének történetét dolgozza fel. Az produkció Tokody Klára népmondája az ala
 pján született meg. A színpadi feldolgozásban felbukkannak azok a motívum
 ok - a Tihanyi echó\, az Aranyhíd -\, amelyek ismerősek a nagyközönség sz
 ámára.
DTEND:20230703T220000Z
DTSTAMP:20260421T082954Z
DTSTART:20230703T150000Z
GEO:46.781312;17.654833
LOCATION:Balatonboglár\, Platán strand\n8630 Balatonboglár\, Szentmihályi 
 utca 1
SEQUENCE:0
SUMMARY:Tündérkönnyek víziszínház // Balatonboglár 07.03. 17:00
UID:74da2b7d-51e5-460f-9774-8f269fc318e0
END:VEVENT
END:VCALENDAR
