BEGIN:VCALENDAR
PRODID:-//github.com/rianjs/ical.net//NONSGML ical.net 4.0//EN
VERSION:2.0
BEGIN:VEVENT
DESCRIPTION:A Tündérkönnyek című víziszínházi előadás a Balaton keletkezés
 ének történetét dolgozza fel. Az produkció Tokody Klára népmondája az ala
 pján született meg. A színpadi feldolgozásban felbukkannak azok a motívum
 ok - a Tihanyi echó\, az Aranyhíd -\, amelyek ismerősek a nagyközönség sz
 ámára.
DTEND:20230702T220000Z
DTSTAMP:20260421T082812Z
DTSTART:20230702T170000Z
GEO:46.781312;17.654833
LOCATION:Balatonboglár\, Platán strand\n8630 Balatonboglár\, Szentmihályi 
 utca 1
SEQUENCE:0
SUMMARY:Tündérkönnyek víziszínházi előadás // Balatonboglár
UID:fadb8f26-fc14-4eec-a0e0-51c8e50bf856
END:VEVENT
END:VCALENDAR
