BEGIN:VCALENDAR
PRODID:-//github.com/rianjs/ical.net//NONSGML ical.net 4.0//EN
VERSION:2.0
BEGIN:VEVENT
DESCRIPTION:Inversedance-Fodor Zoltán Társulat: Vackor karácsonya\n(gyerme
 k táncjáték egy felvonásban)\n
DTEND:20231202T180000Z
DTSTAMP:20260425T032808Z
DTSTART:20231202T170000Z
GEO:47.106286;17.913886
LOCATION:Színházterem\n8200 Veszprém\, Táborállás park 1
SEQUENCE:0
SUMMARY:Vackor karácsonya
UID:4dd1845b-2628-47ba-a165-6f746d40f3b9
END:VEVENT
END:VCALENDAR
