BEGIN:VCALENDAR
PRODID:-//github.com/rianjs/ical.net//NONSGML ical.net 4.0//EN
VERSION:2.0
BEGIN:VEVENT
DESCRIPTION:Gasztronómia / Központban a jég
DTEND:20231029T193000Z
DTSTAMP:20260421T092651Z
DTSTART:20231029T180000Z
GEO:47.098569;17.900630
LOCATION:Fricska Étteremlakás\n8200 Veszprém\, Miklós utca 10
SEQUENCE:0
SUMMARY:Vacsora "az eszkimókkal" - Madách 200 Gondolat Fesztivál
UID:d036c22b-639e-4373-898e-f4ac28d80e20
END:VEVENT
END:VCALENDAR
