BEGIN:VCALENDAR
PRODID:-//github.com/rianjs/ical.net//NONSGML ical.net 4.0//EN
VERSION:2.0
BEGIN:VEVENT
DESCRIPTION:Váczi Eszter - Arabeszk koncert a Fricskában.
DTEND:20231026T180000Z
DTSTAMP:20260421T092513Z
DTSTART:20231026T170000Z
GEO:47.098569;17.900630
LOCATION:Fricska Étteremlakás\n8200 Veszprém\, Miklós utca 10
SEQUENCE:0
SUMMARY:Váczi Eszter - Arabeszk - Madách 200 Gondolat Fesztivál
UID:33733914-c279-4729-ac8b-53136c61b093
END:VEVENT
END:VCALENDAR
