BEGIN:VCALENDAR
PRODID:-//github.com/rianjs/ical.net//NONSGML ical.net 4.0//EN
VERSION:2.0
BEGIN:VEVENT
DESCRIPTION:Az Imre Sándor Szeretetszínház előadásában\, a vonyarcvashegyi
  szabadtéri színpadon nézheted meg a világhíres musicalt\, maradandó élmé
 nyt fog nyújtani!
DTEND:20230618T200000Z
DTSTAMP:20260419T175815Z
DTSTART:20230618T190000Z
GEO:46.754337;17.311248
LOCATION:Szabadtéri Színpad\n8314 Vonyarcvashegy\, Fürdő utca 1
SEQUENCE:0
SUMMARY:Valahol Európában - musical
UID:5d29f2c8-41e7-426a-8bf2-e20b3dc7c75d
END:VEVENT
END:VCALENDAR
