BEGIN:VCALENDAR
PRODID:-//github.com/rianjs/ical.net//NONSGML ical.net 4.0//EN
VERSION:2.0
BEGIN:VEVENT
DESCRIPTION:A Munkácsy-díjas képzőművész Egy másik állatöv című\, új munká
 iból felépülő kiállítása olyan objekteket\, valamint akusztikus és videói
 nstallációkat mutat be Veszprémben\, amelyek a természet\, az ember\, az 
 anyag és az idő viszonyát mérlegelik.
DTEND;VALUE=DATE:20230218
DTSTAMP:20260424T060231Z
DTSTART;VALUE=DATE:20230118
GEO:47.095283;17.905218
LOCATION:Művészetek Háza Veszprém\n8200 Veszprém\, Vár utca 17
SEQUENCE:0
SUMMARY:Várnai Gyula: Egy másik állatöv című önálló kiállítása
UID:02739267-308b-45d7-9a1b-b5e77c4cb177
END:VEVENT
END:VCALENDAR
