BEGIN:VCALENDAR
PRODID:-//github.com/rianjs/ical.net//NONSGML ical.net 4.0//EN
VERSION:2.0
BEGIN:VEVENT
DESCRIPTION:A CIPŐTÁR klasszikus lábbelik bemutatásával enged betekintést 
 a kiveszőben lévő mesterség titkaiba: a készítés fortélyait\, a szakmai f
 ogások apró mozzanatait bemutatva szemlélteti\, hogyan készül el a hagyom
 ányos technológiával a VASS CIPŐ\, a kortárs viseletben is megbecsült mag
 as minőségű termék.
DTEND;VALUE=DATE:20231229
DTSTAMP:20260419T230311Z
DTSTART;VALUE=DATE:20230120
GEO:47.095130;17.905403
LOCATION:Művészetek Háza Veszprém Modern Képtár - Vass László Gyűjtemény\n
 8200 Veszprém\, Vár utca 3
SEQUENCE:0
SUMMARY:VASS CIPŐTÁR – cipőtörténeti állandó kiállítás
UID:8930464a-2b53-4a13-8222-e4504c65b2cf
END:VEVENT
END:VCALENDAR
