BEGIN:VCALENDAR
PRODID:-//github.com/rianjs/ical.net//NONSGML ical.net 4.0//EN
VERSION:2.0
BEGIN:VEVENT
DTEND:20220605T170000Z
DTSTAMP:20260420T025639Z
DTSTART:20220604T120000Z
SEQUENCE:0
SUMMARY:VEB2023 EKF ÚjraHangSzerelde workshop
UID:ea51678a-7994-4c3f-9f05-c1aba8735d3f
END:VEVENT
END:VCALENDAR
