BEGIN:VCALENDAR
PRODID:-//github.com/rianjs/ical.net//NONSGML ical.net 4.0//EN
VERSION:2.0
BEGIN:VEVENT
DESCRIPTION:Az Európa Kulturális Fővárosa programévben jubileumot ünnepel 
 a VeszprémFest\, hiszen 2023-ban lesz 20 éves a prémium zenei fesztivál. 
 A Veszprém-Balaton 2023 EKF program kiemelt zenei rendezvénye fennállásán
 ak egyik legváltozatosabb fellépőit hozza el nekünk.
DTEND:20230716T210000Z
DTSTAMP:20260421T133926Z
DTSTART:20230712T170000Z
GEO:47.097189;17.907151
LOCATION:História Kert\n8200 Veszprém
SEQUENCE:0
SUMMARY:VeszprémFest 2023
UID:9bbcdd9f-5796-4aa1-ac64-f23bb24bae62
END:VEVENT
END:VCALENDAR
