BEGIN:VCALENDAR
PRODID:-//github.com/rianjs/ical.net//NONSGML ical.net 4.0//EN
VERSION:2.0
BEGIN:VEVENT
DESCRIPTION:2025. július 8. és 12. között kerül megrendezésre az egyik leg
 népszerűbb nyári\, szabadtéri zenei rendezvény-sorozat\, a VeszprémFest.
DTEND;VALUE=DATE:20250711
DTSTAMP:20260421T082356Z
DTSTART;VALUE=DATE:20250707
GEO:47.097428;17.906374
LOCATION: Historia Kert\n8200 Veszprém\, Remete utca 8
SEQUENCE:0
SUMMARY:VeszprémFest 2025
UID:70341808-1d2a-432e-8de7-ce5a38913be0
END:VEVENT
END:VCALENDAR
