BEGIN:VCALENDAR
PRODID:-//github.com/rianjs/ical.net//NONSGML ical.net 4.0//EN
VERSION:2.0
BEGIN:VEVENT
DESCRIPTION:Milyen társadalmi\, gazdasági és politikai következményekkel j
 árhatnak az elöregedő társadalmak? - Pogátsa Zoltán közgazdásszal és Kocs
 is Krisztián neurobiológussal Pogonyi Szabolcs beszélget.
DTEND:20231028T163000Z
DTSTAMP:20260421T092141Z
DTSTART:20231028T150000Z
GEO:47.095283;17.905218
LOCATION:FOTON Audiovizuális Centrum\n8200 Veszprém\, Vár utca 17
SEQUENCE:0
SUMMARY:Világöregség? - Madách 200 Gondolat Fesztivál
UID:3e5f4fd1-1a05-4491-bec1-356c645b463a
END:VEVENT
END:VCALENDAR
