BEGIN:VCALENDAR
PRODID:-//github.com/rianjs/ical.net//NONSGML ical.net 4.0//EN
VERSION:2.0
BEGIN:VEVENT
DESCRIPTION:Éljük át az ókor egyik legkedveltebb ünnepét Balácán\, amely a
 z ókori római polgárok életébe is bepillantást enged. Hagyományőrző csapa
 tok által megelevenedik a szüret\, és éltre kel a mesés mozaikokkal díszí
 tett villagazdaság is.
DTEND:20230819T220000Z
DTSTAMP:20260421T173507Z
DTSTART:20230819T120000Z
GEO:47.042492;17.886621
LOCATION:MNM Villa Romana Baláca\n8248 Nemesvámos
SEQUENCE:0
SUMMARY:VINALIA RUSTICA - ÓKORI BORÜNNEP Balácán
UID:adef87e7-d640-46dd-b070-1493a4e55ad5
END:VEVENT
END:VCALENDAR
