BEGIN:VCALENDAR
PRODID:-//github.com/rianjs/ical.net//NONSGML ical.net 4.0//EN
VERSION:2.0
BEGIN:VEVENT
DESCRIPTION:Házigazda: Récsei Péter\, az egyesület vezetője \nVendég: Dr. 
 Alföldi György\, Magyar Urbanisztikai Társaság elnöke
DTEND:20260219T180000Z
DTSTAMP:20260421T082947Z
DTSTART:20260219T170000Z
GEO:47.095283;17.905218
LOCATION:FOTON Kávézó\n8200 Veszprém\, Vár utca 17
SEQUENCE:0
SUMMARY:WE SMART! - BESZÉLGETÉSSOROZAT VESZPRÉMRŐL #2 - FOTON-02.19.
UID:ecc699a5-28f6-4047-94d9-a6836d03bfcf
END:VEVENT
END:VCALENDAR
