BEGIN:VCALENDAR
PRODID:-//github.com/rianjs/ical.net//NONSGML ical.net 4.0//EN
VERSION:2.0
BEGIN:VEVENT
DESCRIPTION:Zucker Immanuel és Neumark Zoltán koncertje - Zsidó liturgikus
  énekek
DTEND:20231025T180000Z
DTSTAMP:20260421T104857Z
DTSTART:20231025T170000Z
GEO:47.098569;17.900630
LOCATION:Fricska Étteremlakás\n8200 Veszprém\, Miklós utca 10
SEQUENCE:0
SUMMARY:Zucker Immanuel és Neumark Zoltán -Madách Gondolat Fesztivál
UID:98277a81-1d9c-46bd-822d-66a3e187da5d
END:VEVENT
END:VCALENDAR
